BEGIN:VCALENDAR
VERSION:2.0
PRODID:-//lytt - ECPv6.15.13.1//NONSGML v1.0//EN
CALSCALE:GREGORIAN
METHOD:PUBLISH
X-ORIGINAL-URL:https://lytt.de
X-WR-CALDESC:Veranstaltungen für lytt
REFRESH-INTERVAL;VALUE=DURATION:PT1H
X-Robots-Tag:noindex
X-PUBLISHED-TTL:PT1H
BEGIN:VTIMEZONE
TZID:Europe/Berlin
BEGIN:DAYLIGHT
TZOFFSETFROM:+0100
TZOFFSETTO:+0200
TZNAME:CEST
DTSTART:20250330T010000
END:DAYLIGHT
BEGIN:STANDARD
TZOFFSETFROM:+0200
TZOFFSETTO:+0100
TZNAME:CET
DTSTART:20251026T010000
END:STANDARD
BEGIN:DAYLIGHT
TZOFFSETFROM:+0100
TZOFFSETTO:+0200
TZNAME:CEST
DTSTART:20260329T010000
END:DAYLIGHT
BEGIN:STANDARD
TZOFFSETFROM:+0200
TZOFFSETTO:+0100
TZNAME:CET
DTSTART:20261025T010000
END:STANDARD
BEGIN:DAYLIGHT
TZOFFSETFROM:+0100
TZOFFSETTO:+0200
TZNAME:CEST
DTSTART:20270328T010000
END:DAYLIGHT
BEGIN:STANDARD
TZOFFSETFROM:+0200
TZOFFSETTO:+0100
TZNAME:CET
DTSTART:20271031T010000
END:STANDARD
END:VTIMEZONE
BEGIN:VEVENT
DTSTART;TZID=Europe/Berlin:20260424T093000
DTEND;TZID=Europe/Berlin:20260424T103000
DTSTAMP:20260424T105210
CREATED:20260101T194003Z
LAST-MODIFIED:20260329T102840Z
UID:606-1777023000-1777026600@lytt.de
SUMMARY:Still-Café
DESCRIPTION:Ankommen\, austauschen und wohlfühlen: Unser Still-Café in entspannter Atmosphäre mit fachlicher Unterstützung von Hebamme Kira Lagoda. \n\n\n\nKostenlose Anmeldung unter info@lytt.de oder unter 02521-3319.
URL:https://lytt.de/event/still-cafe/
ATTACH;FMTTYPE=image/png:https://lytt.de/wp-content/uploads/2026/01/Plakat-Stillcafe.png
END:VEVENT
BEGIN:VEVENT
DTSTART;TZID=Europe/Berlin:20260424T170000
DTEND;TZID=Europe/Berlin:20260424T210000
DTSTAMP:20260424T105210
CREATED:20260305T161041Z
LAST-MODIFIED:20260330T102327Z
UID:744-1777050000-1777064400@lytt.de
SUMMARY:After work Treff
DESCRIPTION:Feierabend – und dann? \n\n\n\nAm 20. März wird das lytt zum Treffpunkt für einen entspannten Start ins Wochenende. Von 17 bis 21 Uhr laden wir euch ein\, nach der Arbeit noch auf ein Glas vorbeizukommen\, Kollegen zu treffen oder einfach in lockerer Atmosphäre den Tag ausklingen zu lassen. \n\n\n\nEs gibt gute Drinks\, kleine Snacks und Musik\, die den Abend begleitet. Ob mit dem Team\, mit Freunden oder ganz spontan: Reserviert euch online einen Tisch oder kommt spontan ohne Anmeldung.  \n\n\n\nWir freuen uns auf einen schönen Feierabend mit euch.
URL:https://lytt.de/event/after-work-treff/
ATTACH;FMTTYPE=image/png:https://lytt.de/wp-content/uploads/2026/03/Events-Vorlagen-4.png
END:VEVENT
END:VCALENDAR