BEGIN:VCALENDAR
VERSION:2.0
PRODID:-//lytt - ECPv6.15.13.1//NONSGML v1.0//EN
CALSCALE:GREGORIAN
METHOD:PUBLISH
X-ORIGINAL-URL:https://lytt.de
X-WR-CALDESC:Veranstaltungen für lytt
REFRESH-INTERVAL;VALUE=DURATION:PT1H
X-Robots-Tag:noindex
X-PUBLISHED-TTL:PT1H
BEGIN:VTIMEZONE
TZID:Europe/Berlin
BEGIN:DAYLIGHT
TZOFFSETFROM:+0100
TZOFFSETTO:+0200
TZNAME:CEST
DTSTART:20250330T010000
END:DAYLIGHT
BEGIN:STANDARD
TZOFFSETFROM:+0200
TZOFFSETTO:+0100
TZNAME:CET
DTSTART:20251026T010000
END:STANDARD
BEGIN:DAYLIGHT
TZOFFSETFROM:+0100
TZOFFSETTO:+0200
TZNAME:CEST
DTSTART:20260329T010000
END:DAYLIGHT
BEGIN:STANDARD
TZOFFSETFROM:+0200
TZOFFSETTO:+0100
TZNAME:CET
DTSTART:20261025T010000
END:STANDARD
BEGIN:DAYLIGHT
TZOFFSETFROM:+0100
TZOFFSETTO:+0200
TZNAME:CEST
DTSTART:20270328T010000
END:DAYLIGHT
BEGIN:STANDARD
TZOFFSETFROM:+0200
TZOFFSETTO:+0100
TZNAME:CET
DTSTART:20271031T010000
END:STANDARD
END:VTIMEZONE
BEGIN:VEVENT
DTSTART;TZID=Europe/Berlin:20260129T100000
DTEND;TZID=Europe/Berlin:20260129T113000
DTSTAMP:20260422T223730
CREATED:20260105T210420Z
LAST-MODIFIED:20260105T210558Z
UID:641-1769680800-1769686200@lytt.de
SUMMARY:Handy-Sprechstunde
DESCRIPTION:Das Smartphone wirft Fragen auf?WhatsApp\, Fotos oder Einstellungen sind manchmal ganz schön kompliziert? \n\n\n\nIn unserer Handy-Sprechstunde für Senioren hilftBenni\, Leiter des Telekom Shops Beckum\,geduldig und verständlich bei allen Fragen rund ums Smartphone. \n\n\n\nKeine Anmeldung erforderlich.
URL:https://lytt.de/event/handy-sprechstunde/
ATTACH;FMTTYPE=image/png:https://lytt.de/wp-content/uploads/2026/01/Das-Smartphone-macht-was-es-will-WhatsApp-Fotos-oder-Einstellungen-sorgen-eher-fuer-Fragezeichen.png
END:VEVENT
BEGIN:VEVENT
DTSTART;TZID=Europe/Berlin:20260131T140000
DTEND;TZID=Europe/Berlin:20260131T170000
DTSTAMP:20260422T223730
CREATED:20260113T114037Z
LAST-MODIFIED:20260129T100506Z
UID:654-1769868000-1769878800@lytt.de
SUMMARY:Erste Hilfe bei Kindern
DESCRIPTION:Im Alltag mit Kindern passieren kleine Missgeschicke schnell – und manchmal wird es ernst. In unserem 3-stündigen Workshop zur Ersten Hilfe bei Kindern bekommst du Sicherheit im Umgang mit Alltagsnotfällen ebenso wie mit Extremsituationen. \n\n\n\nGemeinsam mit Kinderärztin Theresa Stake schauen wir darauf\,wie du ruhig bleibst\, richtig einschätzt und angemessen handelst – vom „lytten“ Notfall bis zum Ernstfall. \n\n\n\nDer Workshop findet in kleiner Runde statt\, in entspannter Café-Atmosphäre und mit ausreichend Zeit für deine Fragen. \n\n\n\nThemen u. a.: \n\n\n\n\nTypische Alltagsnotfälle bei Babys & Kindern\n\n\n\nEinschätzen von Situationen: abwarten oder handeln?\n\n\n\nErste Maßnahmen bei Verletzungen & akuten Beschwerden\n\n\n\nReanimation & Vorgehen in Extremsituationen\n\n\n\nPraktische Tipps für mehr Sicherheit im Familienalltag\n\n\n\n\nAblauf \n\n\n\n\nSamstag\, 31.01.\, 14:00–17:00 Uhr\n\n\n\ninkl. Pause\n\n\n\ninkl. 1 Heißgetränk & 1 Stück Kuchen\n\n\n\n\nOrt: lyttKosten: \n\n\n\n\n39 € pro Person\n\n\n\n72 € pro Paar\n\n\n\n\nEin Workshop für alle\, die vorbereitet sein möchten – ohne Panik\, aber mit Wissen und Gefühl für den Alltag. \n\n\n\nAnmeldung unter info@lytt.de oder unter 02521-3319
URL:https://lytt.de/event/erste-hilfe-bei-kindern/
ATTACH;FMTTYPE=image/png:https://lytt.de/wp-content/uploads/2026/01/Kinder-Notfall-Kompass-4.png
END:VEVENT
END:VCALENDAR